BEGIN:VCALENDAR
VERSION:2.0
PRODID:-//wp-events-plugin.com//7.2.3.1//EN
TZID:Europe/Berlin
X-WR-TIMEZONE:Europe/Berlin
BEGIN:VEVENT
UID:162@praeventionsrat-oldenburg.de
DTSTART;TZID=Europe/Berlin:20260422T180000
DTEND;TZID=Europe/Berlin:20260422T200000
DTSTAMP:20260325T124900Z
URL:https://praeventionsrat-oldenburg.de/veranstaltung/pfd_10demokratiewer
 kstatt/
SUMMARY:10. Demokratiewerkstatt - Kommunalwahlen 2026
DESCRIPTION:Die Partnerschaften für Demokratie (PfD) Oldenburg laden ein z
 u:\n\n10. Demokratiewerkstatt - Kommunalwahlen 2026\nam 22.04.2026\nvon 18
  bis 20 Uhr\nin der VHS Oldenburg\n\nAm 13. September 2026 sind Kommunalwa
 hlen.\n\nWahlen sind ein Kern von Demokratie. Sie sind eine wichtige Mögl
 ichkeit um Einfluss auf Entscheidungen zu nehmen\, die den Alltag\, das Zu
 sammenleben und die Entwicklung der Stadt prägen.\n\nWie können wir sehr
  viele Menschen in Oldenburg über die Wahl informieren?\nWie können wir 
 möglichst viele zur Teilnahme anregen?\n\nBei der Demokratiewerkstatt ent
 wickeln wir gemeinsam Aktivitäten\, um bis zur Kommunalwahl Menschen zur 
 Bedeutung der Kommunalwahl und der eigenen Beteiligung daran zu informiere
 n. Sie können bestehende Ideen kennenlernen und mit anderen weiterentwick
 eln oder neue Ideen einbringen.\n\nUm Anmeldung bis zum 19.04.2026 wird ge
 beten\, per Telefon 04412354963 oder per E-Mail an pfd@stadt-oldenburg.de.
 \n\nWeitere Infos zur PfD Oldenburg unter partnerschaft-fuer-demokratie-ol
 denburg.de.
ATTACH;FMTTYPE=image/jpeg:https://praeventionsrat-oldenburg.de/wp-content/
 uploads/2025/11/2026_Kalender_PfD.png
CATEGORIES:Demokratie,Partnerschaften für Demokratie Oldenburg,Workshop
LOCATION:VHS Oldenburg\, Karlstr. 25\, Oldenburg\, Niedersachsen\, 26123\, 
 Deutschland
X-APPLE-STRUCTURED-LOCATION;VALUE=URI;X-ADDRESS=Karlstr. 25\, Oldenburg\, N
 iedersachsen\, 26123\, Deutschland;X-APPLE-RADIUS=100;X-TITLE=VHS Oldenbur
 g:geo:0,0
END:VEVENT
BEGIN:VTIMEZONE
TZID:Europe/Berlin
X-LIC-LOCATION:Europe/Berlin
BEGIN:DAYLIGHT
DTSTART:20260329T030000
TZOFFSETFROM:+0100
TZOFFSETTO:+0200
TZNAME:CEST
END:DAYLIGHT
END:VTIMEZONE
END:VCALENDAR