BEGIN:VCALENDAR
VERSION:2.0
PRODID:-//wp-events-plugin.com//7.2.3.1//EN
TZID:Europe/Berlin
X-WR-TIMEZONE:Europe/Berlin
BEGIN:VEVENT
UID:160@praeventionsrat-oldenburg.de
DTSTART;TZID=Europe/Berlin:20261124T200000
DTEND;TZID=Europe/Berlin:20261124T210000
DTSTAMP:20260326T112459Z
URL:https://praeventionsrat-oldenburg.de/veranstaltung/allesokimnovember26
 /
SUMMARY:Alles OK im WWW? - mit Gebärdenverdolmetschung
DESCRIPTION:Alles OK im WWW?\n„Alles OK im WWW?“\nmit Christina ter Gla
 ne\n\nam 24. November 2026\nvon 20 Uhr bis 21 Uhr\n www.praeventionsrat-ol
 denburg.de\n\n 	Die Teilnahme ist kostenfrei.\n\nDieser Vortrag wird onlin
 e in Gebärdensprache übersetzt.\nEine Anmeldung ist nur notwendig\, wenn
  Sie die Unterstützung durch Gebärden benötigen.\n\nDie Onlinereihe fin
 det in Kooperation mit dem Landkreis Ammerland statt.
ATTACH;FMTTYPE=image/jpeg:https://praeventionsrat-oldenburg.de/wp-content/
 uploads/2026/02/2026_AllesOKimWWW_Gebaerden.png
CATEGORIES:Alles OK im WWW?,in
 Gebärdensprache,Medienkompetenz,Onlineangebot
LOCATION:https://pro-ol.schulserver.de/iserv/videoconference/public/8xv7XuD
 2KF3YkXerzaN51H
END:VEVENT
BEGIN:VTIMEZONE
TZID:Europe/Berlin
X-LIC-LOCATION:Europe/Berlin
BEGIN:STANDARD
DTSTART:20261025T020000
TZOFFSETFROM:+0200
TZOFFSETTO:+0100
TZNAME:CET
END:STANDARD
END:VTIMEZONE
END:VCALENDAR