BEGIN:VCALENDAR
VERSION:2.0
PRODID:-//wp-events-plugin.com//7.2.3.1//EN
TZID:Europe/Berlin
X-WR-TIMEZONE:Europe/Berlin
BEGIN:VEVENT
UID:159@praeventionsrat-oldenburg.de
DTSTART;TZID=Europe/Berlin:20260623T170000
DTEND;TZID=Europe/Berlin:20260623T193000
DTSTAMP:20260223T090551Z
URL:https://praeventionsrat-oldenburg.de/veranstaltung/2026zivilcouragetra
 ining/
SUMMARY:Zivilcouragetraining
DESCRIPTION:Zivilcouragetraining\nam 23.06.2026\nvon 17.00 bis 19.30 Uhr\ni
 m Graf-Anton-Günther Gymnasium Oldenburg (Raum E 007 - barrierefrei errei
 chbar)\n\nWie Konfliktsituationen vermieden und das Risiko verringert werd
 en kann\, Opfer einer Gewalttat zu werden\, erläutert Hermann Lampen\, Pr
 äventions- und Opferschutzbeauftragter der Bundespolizeiinspektion Bad Be
 ntheim. Er gibt ganz konkrete Tipps\, wie man sich selbst und andere Perso
 nen schützen kann.\n\n 	Die Teilnahme ist kostenfrei.\n 	Wir bitten um An
 meldung bis zum 19. Juni 2026\n\nSollten Sie an dem Kurs nicht teilnehmen 
 können\, bitten wir Sie\, Ihre Anmeldung so früh wie möglich zu stornie
 ren. Damit ermöglichen Sie dem Referenten eine passgenaue Planung des Kur
 ses und geben anderen Teilnehmenden auf der Warteliste die Möglichkeit\, 
 an der Veranstaltung teilzunehmen.
ATTACH;FMTTYPE=image/jpeg:https://praeventionsrat-oldenburg.de/wp-content/
 uploads/2025/11/2026_Kalender_SeniorInnen.png
CATEGORIES:Barrierearm,Senior*innen,Workshop
LOCATION:Graf-Anton-Günther Schule (GAG) Oldenburg\, Schleusenstr. 4\, Old
 enburg\, Niedersachsen\, 26135\, Deutschland
X-APPLE-STRUCTURED-LOCATION;VALUE=URI;X-ADDRESS=Schleusenstr. 4\, Oldenburg
 \, Niedersachsen\, 26135\, Deutschland;X-APPLE-RADIUS=100;X-TITLE=Graf-Ant
 on-Günther Schule (GAG) Oldenburg:geo:0,0
END:VEVENT
BEGIN:VTIMEZONE
TZID:Europe/Berlin
X-LIC-LOCATION:Europe/Berlin
BEGIN:DAYLIGHT
DTSTART:20260329T030000
TZOFFSETFROM:+0100
TZOFFSETTO:+0200
TZNAME:CEST
END:DAYLIGHT
END:VTIMEZONE
END:VCALENDAR