BEGIN:VCALENDAR
VERSION:2.0
PRODID:-//wp-events-plugin.com//7.2.3.1//EN
TZID:Europe/Berlin
X-WR-TIMEZONE:Europe/Berlin
BEGIN:VEVENT
UID:158@praeventionsrat-oldenburg.de
DTSTART;TZID=Europe/Berlin:20260622T170000
DTEND;TZID=Europe/Berlin:20260622T183000
DTSTAMP:20260223T090559Z
URL:https://praeventionsrat-oldenburg.de/veranstaltung/2026taschendiebstah
 l/
SUMMARY:Schutz vor Taschendiebstahl
DESCRIPTION:Schutz vor Taschendiebstahl\n\nam 22.06.2026\nvon 17.00 bis 18.
 30 Uhr\nim Graf-Anton-Günther Gymnasium Oldenburg (Raum E 007 - barrieref
 rei erreichbar)\n\nHermann Lampen\, Präventions- und Opferschutzbeauftrag
 ter der Bundespolizeiinspektion Bad Bentheim\, gibt ganz konkrete Tipps\, 
 um Taschendiebstahl zu vermeiden.\n\n 	Die Teilnahme ist kostenfrei\n 	Wir
  bitten um Anmeldung bis zum 19. Juni 2026\n\nSollten Sie an dem Kurs nich
 t teilnehmen können\, bitten wir Sie\, Ihre Anmeldung so früh wie mögli
 ch zu stornieren. Damit ermöglichen Sie dem Referenten eine passgenaue Pl
 anung des Kurses und geben anderen Teilnehmenden auf der Warteliste die M
 öglichkeit\, an der Veranstaltung teilzunehmen.
ATTACH;FMTTYPE=image/jpeg:https://praeventionsrat-oldenburg.de/wp-content/
 uploads/2025/11/2026_Kalender_SeniorInnen.png
CATEGORIES:Barrierearm,Senior*innen,Workshop
LOCATION:Graf-Anton-Günther Schule (GAG) Oldenburg\, Schleusenstr. 4\, Old
 enburg\, Niedersachsen\, 26135\, Deutschland
X-APPLE-STRUCTURED-LOCATION;VALUE=URI;X-ADDRESS=Schleusenstr. 4\, Oldenburg
 \, Niedersachsen\, 26135\, Deutschland;X-APPLE-RADIUS=100;X-TITLE=Graf-Ant
 on-Günther Schule (GAG) Oldenburg:geo:0,0
END:VEVENT
BEGIN:VTIMEZONE
TZID:Europe/Berlin
X-LIC-LOCATION:Europe/Berlin
BEGIN:DAYLIGHT
DTSTART:20260329T030000
TZOFFSETFROM:+0100
TZOFFSETTO:+0200
TZNAME:CEST
END:DAYLIGHT
END:VTIMEZONE
END:VCALENDAR