BEGIN:VCALENDAR
VERSION:2.0
PRODID:-//wp-events-plugin.com//7.2.3.1//EN
TZID:Europe/Berlin
X-WR-TIMEZONE:Europe/Berlin
BEGIN:VEVENT
UID:161@praeventionsrat-oldenburg.de
DTSTART;TZID=Europe/Berlin:20260408T170000
DTEND;TZID=Europe/Berlin:20260408T190000
DTSTAMP:20260324T120111Z
URL:https://praeventionsrat-oldenburg.de/veranstaltung/202604_pfd_infoantr
 agstellung/
SUMMARY:Partnerschaften für Demokratie Oldenburg: Online-Informationsveran
 staltung zur Antragstellung
DESCRIPTION:Förderung für Ihre Projekte für eine lebendige Demokratie\n\
 nOnline-Informationsveranstaltung zur Antragstellung am 8. April um 17 Uhr
 .\n\nHier erfahren Sie\, was bei der Antragstellung sowohl inhaltlich als 
 auch bei der Finanzierung zu beachten ist.\n\nWir erläutern das Antragsfo
 rmular und beantworten Ihre Fragen.\n\nBitte melden Sie sich bis zum 1. Ap
 ril an unter pfd@stadt-oldenburg.de
ATTACH;FMTTYPE=image/jpeg:https://praeventionsrat-oldenburg.de/wp-content/
 uploads/2025/11/2026_Kalender_PfD.png
CATEGORIES:Partnerschaften für Demokratie Oldenburg
END:VEVENT
BEGIN:VTIMEZONE
TZID:Europe/Berlin
X-LIC-LOCATION:Europe/Berlin
BEGIN:DAYLIGHT
DTSTART:20260329T030000
TZOFFSETFROM:+0100
TZOFFSETTO:+0200
TZNAME:CEST
END:DAYLIGHT
END:VTIMEZONE
END:VCALENDAR